BEGIN:VCALENDAR
VERSION:2.0
PRODID:-//hacksw/handcal//NONSGML v1.0//EN
BEGIN:VEVENT
DTSTART:20260429T170000Z
DTEND:20260429T200000Z
LOCATION:IESF \n7, Rue Lamennais \n75008 PARIS
ORGANIZER;CN=Sebastien lavabre:MAILTO:associationalumni042@gmail.com
SUMMARY:Conférence Q&A - La compétitivité de l’éco-système chinois pour l’Europe, mythe ou réalité ?
DESCRIPTION:🚘 Première conférence question/réponse du Groupe Auto de Centrale Nantes Alumni : révolution de la mobilité - la compétitivité de l’éco-système chinois pour l’Europe, mythe ou réalité ?Intervenant :...
URL:https://mines-saint-etienne.org/fr/event/conference-q-a-la-competitivite-de-l-eco-systeme-chinois-pour-l-europe-mythe-ou-realite/2026/04/29/759
BEGIN:VALARM
TRIGGER:-P0DT1H0M0S
ACTION:DISPLAY
END:VALARM
END:VEVENT
END:VCALENDAR