BEGIN:VCALENDAR
VERSION:2.0
PRODID:-//hacksw/handcal//NONSGML v1.0//EN
BEGIN:VEVENT
DTSTART:20260428T103000Z
DTEND:20260428T120000Z
LOCATION:https://mines-nancy.org/fr/group/carrieres/104/calendar/comment-determiner-le-bon-timing-d-une-transition-professionnelle/2026/04/28/750
ORGANIZER;CN=Corinne Chaffangeon:MAILTO:corinne.chaffangeon@emse.fr
SUMMARY:Comment déterminer le « bon » timing d’une transition professionnelle ?
DESCRIPTION:Trop tôt, trop tard, maintenant ? Comment déterminer le « bon » timing d’une transition professionnelle ?Mardi 28 avril, de 12h30 à 14h00\nVous sentez que quelque chose ne va plus dans votre vie...
URL:https://mines-saint-etienne.org/fr/event/comment-determiner-le-bon-timing-d-une-transition-professionnelle/2026/04/28/742
BEGIN:VALARM
TRIGGER:-P0DT1H0M0S
ACTION:DISPLAY
END:VALARM
END:VEVENT
END:VCALENDAR