BEGIN:VCALENDAR
VERSION:2.0
PRODID:-//hacksw/handcal//NONSGML v1.0//EN
BEGIN:VEVENT
DTSTART:20260616T103000Z
DTEND:20260616T113000Z
LOCATION:
ORGANIZER;CN=Sebastien lavabre:MAILTO:associationalumni042@gmail.com
SUMMARY:Négocier son départ de l’entreprise avec méthode et influence
DESCRIPTION:Négocier son départ de l’entreprise avec méthode et influence Mardi 16 juin 2026 (12h30 à 13h30)\n Visioconférence – présentation\nPour un cadre supérieur ou un dirigeant, un départ de l’entreprise...
URL:https://mines-saint-etienne.org/fr/event/negocier-son-depart-de-l-entreprise-avec-methode-et-influence/2026/06/16/691
BEGIN:VALARM
TRIGGER:-P0DT1H0M0S
ACTION:DISPLAY
END:VALARM
END:VEVENT
END:VCALENDAR